BEGIN:VCALENDAR
VERSION:2.0
PRODID:-//Montgomery Energy Connection - ECPv6.15.20//NONSGML v1.0//EN
CALSCALE:GREGORIAN
METHOD:PUBLISH
X-WR-CALNAME:Montgomery Energy Connection
X-ORIGINAL-URL:https://montgomeryenergyconnection.org
X-WR-CALDESC:Events for Montgomery Energy Connection
REFRESH-INTERVAL;VALUE=DURATION:PT1H
X-Robots-Tag:noindex
X-PUBLISHED-TTL:PT1H
BEGIN:VTIMEZONE
TZID:America/New_York
BEGIN:DAYLIGHT
TZOFFSETFROM:-0500
TZOFFSETTO:-0400
TZNAME:EDT
DTSTART:20250309T070000
END:DAYLIGHT
BEGIN:STANDARD
TZOFFSETFROM:-0400
TZOFFSETTO:-0500
TZNAME:EST
DTSTART:20251102T060000
END:STANDARD
BEGIN:DAYLIGHT
TZOFFSETFROM:-0500
TZOFFSETTO:-0400
TZNAME:EDT
DTSTART:20260308T070000
END:DAYLIGHT
BEGIN:STANDARD
TZOFFSETFROM:-0400
TZOFFSETTO:-0500
TZNAME:EST
DTSTART:20261101T060000
END:STANDARD
BEGIN:DAYLIGHT
TZOFFSETFROM:-0500
TZOFFSETTO:-0400
TZNAME:EDT
DTSTART:20270314T070000
END:DAYLIGHT
BEGIN:STANDARD
TZOFFSETFROM:-0400
TZOFFSETTO:-0500
TZNAME:EST
DTSTART:20271107T060000
END:STANDARD
END:VTIMEZONE
BEGIN:VEVENT
DTSTART;TZID=America/New_York:20260513T190000
DTEND;TZID=America/New_York:20260513T203000
DTSTAMP:20260419T125610
CREATED:20260416T192521Z
LAST-MODIFIED:20260416T192521Z
UID:10000269-1778698800-1778704200@montgomeryenergyconnection.org
SUMMARY:Multi-Tenant Buildings & BEPS-How it Affects You
DESCRIPTION:Join us for the first session in our educational series focused on helping condominium communities understand and navigate energy performance requirements. This session will introduce the fundamentals of benchmarking and Building Energy Performance Standards (BEPS) and outline what both building leaders and individual unit owners need to know.\n\nIn this session\, we’ll cover:\n• What benchmarking is and why it’s required\n• What information is—and is not—reported in annual energy tracking\n• An introduction to BEPS and how it applies to condominiums\n• What actions the building can and should take\n• What actions unit owners can and should take\n• Key timelines and available compliance pathways\n• County-level support resources\, including benchmarking assistance and building assessments\n\nWhether you’re a board member\, property manager\, or interested resident\, this session will provide the foundational knowledge you need to guide your condominium community toward compliance and improved energy performance.\n\nVisit Multi-Tenant Buildings & BEPS-How it Affects You Tickets\, Wednesday\, May 13 from 7 pm to 8:30 pm | Eventbrite to reserve your spot today!
URL:https://montgomeryenergyconnection.org/event/multi-tenant-buildings-beps-how-it-affects-you/
CATEGORIES:Community Calendar,Events
ATTACH;FMTTYPE=image/png:https://montgomeryenergyconnection.org/wp-content/uploads/2026/04/BEPS-SjLk6Z.png
END:VEVENT
END:VCALENDAR